BEGIN:VCALENDAR
VERSION:2.0
PRODID:-//Writing &amp; Photography by Kirsten Hines - ECPv6.15.20//NONSGML v1.0//EN
CALSCALE:GREGORIAN
METHOD:PUBLISH
X-WR-CALNAME:Writing &amp; Photography by Kirsten Hines
X-ORIGINAL-URL:https://kirstenhines.com
X-WR-CALDESC:Events for Writing &amp; Photography by Kirsten Hines
REFRESH-INTERVAL;VALUE=DURATION:PT1H
X-Robots-Tag:noindex
X-PUBLISHED-TTL:PT1H
BEGIN:VTIMEZONE
TZID:America/New_York
BEGIN:DAYLIGHT
TZOFFSETFROM:-0500
TZOFFSETTO:-0400
TZNAME:EDT
DTSTART:20250309T070000
END:DAYLIGHT
BEGIN:STANDARD
TZOFFSETFROM:-0400
TZOFFSETTO:-0500
TZNAME:EST
DTSTART:20251102T060000
END:STANDARD
BEGIN:DAYLIGHT
TZOFFSETFROM:-0500
TZOFFSETTO:-0400
TZNAME:EDT
DTSTART:20260308T070000
END:DAYLIGHT
BEGIN:STANDARD
TZOFFSETFROM:-0400
TZOFFSETTO:-0500
TZNAME:EST
DTSTART:20261101T060000
END:STANDARD
BEGIN:DAYLIGHT
TZOFFSETFROM:-0500
TZOFFSETTO:-0400
TZNAME:EDT
DTSTART:20270314T070000
END:DAYLIGHT
BEGIN:STANDARD
TZOFFSETFROM:-0400
TZOFFSETTO:-0500
TZNAME:EST
DTSTART:20271107T060000
END:STANDARD
END:VTIMEZONE
BEGIN:VEVENT
DTSTART;TZID=America/New_York:20260204T100000
DTEND;TZID=America/New_York:20260204T120000
DTSTAMP:20260423T160807
CREATED:20260115T211101Z
LAST-MODIFIED:20260115T211101Z
UID:43869-1770199200-1770206400@kirstenhines.com
SUMMARY:Wild Florida at Tampa Garden Club
DESCRIPTION:Florida is widely known for its alligators\, panthers\, pythons\, and pesky mosquitoes\, but did you know it also has crocodiles\, bears\, scarlet-striped snakes\, and more species of fireflies than any other state? How about a tiny lizard that swims through central Florida’s ancient sand dunes\, a red widow spider that hides in palmettos\, or that wild flamingos\, common two centuries ago\, are reappearing? Join author\, wildlife photographer\, and conservationist Kirsten Hines for a visual and descriptive journey deep into Florida’s wilds to explore the state’s impressive array of animals as captured in her books Birds of Florida and Wild Florida: An Animal Odyssey. From salamanders in the temperate Panhandle\, to endemic jays in Central Florida’s scrub\, tropical nesting birds in the Florida Keys\, and a range of migratory birds that flood across the state in spring and fall\, Kirsten will take you on an adventure through Florida’s myriad habitats.
URL:https://kirstenhines.com/event/wild-florida-at-tampa-garden-club/
LOCATION:Tampa Garden Club\, 2629 Bayshore Blvd\, Tampa\, FL\, 33629\, United States
CATEGORIES:Talk
ATTACH;FMTTYPE=image/jpeg:https://kirstenhines.com/wp-content/uploads/2023/09/Wild_Florida_Cropped.jpg
END:VEVENT
END:VCALENDAR