BEGIN:VCALENDAR
VERSION:2.0
PRODID:-//Writing &amp; Photography by Kirsten Hines - ECPv6.15.20//NONSGML v1.0//EN
CALSCALE:GREGORIAN
METHOD:PUBLISH
X-ORIGINAL-URL:https://kirstenhines.com
X-WR-CALDESC:Events for Writing &amp; Photography by Kirsten Hines
REFRESH-INTERVAL;VALUE=DURATION:PT1H
X-Robots-Tag:noindex
X-PUBLISHED-TTL:PT1H
BEGIN:VTIMEZONE
TZID:America/New_York
BEGIN:DAYLIGHT
TZOFFSETFROM:-0500
TZOFFSETTO:-0400
TZNAME:EDT
DTSTART:20250309T070000
END:DAYLIGHT
BEGIN:STANDARD
TZOFFSETFROM:-0400
TZOFFSETTO:-0500
TZNAME:EST
DTSTART:20251102T060000
END:STANDARD
BEGIN:DAYLIGHT
TZOFFSETFROM:-0500
TZOFFSETTO:-0400
TZNAME:EDT
DTSTART:20260308T070000
END:DAYLIGHT
BEGIN:STANDARD
TZOFFSETFROM:-0400
TZOFFSETTO:-0500
TZNAME:EST
DTSTART:20261101T060000
END:STANDARD
BEGIN:DAYLIGHT
TZOFFSETFROM:-0500
TZOFFSETTO:-0400
TZNAME:EDT
DTSTART:20270314T070000
END:DAYLIGHT
BEGIN:STANDARD
TZOFFSETFROM:-0400
TZOFFSETTO:-0500
TZNAME:EST
DTSTART:20271107T060000
END:STANDARD
END:VTIMEZONE
BEGIN:VEVENT
DTSTART;TZID=America/New_York:20260327T073000
DTEND;TZID=America/New_York:20260327T103000
DTSTAMP:20260423T164530
CREATED:20260115T212250Z
LAST-MODIFIED:20260115T213553Z
UID:43873-1774596600-1774607400@kirstenhines.com
SUMMARY:Bird Photography Workshop
DESCRIPTION:Join Kirsten Hines\, wildlife photographer and author of Birds of Florida: A Photographic Guide\, for hands-on bird photography instruction at the popular birding site Celery Fields in Sarasota\, including portraits\, birds in flight\, and tips for finding and photographing songbirds\, as well as more artistic captures. \nParticipants photograph a Sandhill Crane at Kirsten’s Bird Photography Workshop at the Celery Fields. \n  \n 
URL:https://kirstenhines.com/event/bird-photography-workshop/
LOCATION:The Celery Fields\, 6799 Palmer Blvd\, Sarasota\, FL\, 34240\, United States
CATEGORIES:Photography Workshop
ATTACH;FMTTYPE=image/jpeg:https://kirstenhines.com/wp-content/uploads/2026/01/KHines_Skimmer.jpg
END:VEVENT
BEGIN:VEVENT
DTSTART;TZID=America/New_York:20260327T160000
DTEND;TZID=America/New_York:20260327T190000
DTSTAMP:20260423T164530
CREATED:20260115T212840Z
LAST-MODIFIED:20260115T213453Z
UID:43882-1774627200-1774638000@kirstenhines.com
SUMMARY:Wildlife Photography Workshop
DESCRIPTION:Join Kirsten Hines\, author of Wild Florida and Birds of Florida\, for hands-on wildlife photography instruction at Oscar Scherer State Park. Photograph endemic Florida scrub species and more while learning strategies to optimize wildlife encounters and compositional techniques for more intimate portrayals of your subjects. \nEndemic Florida scrub-jay.
URL:https://kirstenhines.com/event/wildlife-photography-workshop/
LOCATION:Oscar Scherer State Park\, 1843 S Tamiami Trail\, Osprey\, FL\, 34229\, United States
CATEGORIES:Photography Workshop
ATTACH;FMTTYPE=image/jpeg:https://kirstenhines.com/wp-content/uploads/2026/01/KHines_tortoise.jpg
END:VEVENT
END:VCALENDAR