BEGIN:VCALENDAR
VERSION:2.0
PRODID:-//Writing &amp; Photography by Kirsten Hines - ECPv6.15.20//NONSGML v1.0//EN
CALSCALE:GREGORIAN
METHOD:PUBLISH
X-WR-CALNAME:Writing &amp; Photography by Kirsten Hines
X-ORIGINAL-URL:https://kirstenhines.com
X-WR-CALDESC:Events for Writing &amp; Photography by Kirsten Hines
REFRESH-INTERVAL;VALUE=DURATION:PT1H
X-Robots-Tag:noindex
X-PUBLISHED-TTL:PT1H
BEGIN:VTIMEZONE
TZID:America/New_York
BEGIN:DAYLIGHT
TZOFFSETFROM:-0500
TZOFFSETTO:-0400
TZNAME:EDT
DTSTART:20250309T070000
END:DAYLIGHT
BEGIN:STANDARD
TZOFFSETFROM:-0400
TZOFFSETTO:-0500
TZNAME:EST
DTSTART:20251102T060000
END:STANDARD
BEGIN:DAYLIGHT
TZOFFSETFROM:-0500
TZOFFSETTO:-0400
TZNAME:EDT
DTSTART:20260308T070000
END:DAYLIGHT
BEGIN:STANDARD
TZOFFSETFROM:-0400
TZOFFSETTO:-0500
TZNAME:EST
DTSTART:20261101T060000
END:STANDARD
BEGIN:DAYLIGHT
TZOFFSETFROM:-0500
TZOFFSETTO:-0400
TZNAME:EDT
DTSTART:20270314T070000
END:DAYLIGHT
BEGIN:STANDARD
TZOFFSETFROM:-0400
TZOFFSETTO:-0500
TZNAME:EST
DTSTART:20271107T060000
END:STANDARD
END:VTIMEZONE
BEGIN:VEVENT
DTSTART;TZID=America/New_York:20260411T060000
DTEND;TZID=America/New_York:20260411T103000
DTSTAMP:20260423T164536
CREATED:20260330T213028Z
LAST-MODIFIED:20260331T202804Z
UID:43944-1775887200-1775903400@kirstenhines.com
SUMMARY:Everglades Golden Hour Wildlife Photography Workshop
DESCRIPTION:Join Kirsten Hines and the Florida National Parks Association for a sunrise wildlife photography experience as the Everglades awakens to a new day. \n \n 
URL:https://kirstenhines.com/event/everglades-golden-hour-wildlife-photography-workshop/
LOCATION:Everglades Ernest F Coe Visitor Center\, 40001 State Highway 9336\, Homestead\, FL\, 33034\, United States
CATEGORIES:Photography Workshop
ATTACH;FMTTYPE=image/jpeg:https://kirstenhines.com/wp-content/uploads/2022/02/KirstenHines_AnhingaTrail.jpg
END:VEVENT
END:VCALENDAR