BEGIN:VCALENDAR
VERSION:2.0
PRODID:-//Writing &amp; Photography by Kirsten Hines - ECPv6.15.20//NONSGML v1.0//EN
CALSCALE:GREGORIAN
METHOD:PUBLISH
X-WR-CALNAME:Writing &amp; Photography by Kirsten Hines
X-ORIGINAL-URL:https://kirstenhines.com
X-WR-CALDESC:Events for Writing &amp; Photography by Kirsten Hines
REFRESH-INTERVAL;VALUE=DURATION:PT1H
X-Robots-Tag:noindex
X-PUBLISHED-TTL:PT1H
BEGIN:VTIMEZONE
TZID:America/New_York
BEGIN:DAYLIGHT
TZOFFSETFROM:-0500
TZOFFSETTO:-0400
TZNAME:EDT
DTSTART:20250309T070000
END:DAYLIGHT
BEGIN:STANDARD
TZOFFSETFROM:-0400
TZOFFSETTO:-0500
TZNAME:EST
DTSTART:20251102T060000
END:STANDARD
BEGIN:DAYLIGHT
TZOFFSETFROM:-0500
TZOFFSETTO:-0400
TZNAME:EDT
DTSTART:20260308T070000
END:DAYLIGHT
BEGIN:STANDARD
TZOFFSETFROM:-0400
TZOFFSETTO:-0500
TZNAME:EST
DTSTART:20261101T060000
END:STANDARD
BEGIN:DAYLIGHT
TZOFFSETFROM:-0500
TZOFFSETTO:-0400
TZNAME:EDT
DTSTART:20270314T070000
END:DAYLIGHT
BEGIN:STANDARD
TZOFFSETFROM:-0400
TZOFFSETTO:-0500
TZNAME:EST
DTSTART:20271107T060000
END:STANDARD
END:VTIMEZONE
BEGIN:VEVENT
DTSTART;TZID=America/New_York:20260328T090000
DTEND;TZID=America/New_York:20260328T100000
DTSTAMP:20260423T191004
CREATED:20260115T213419Z
LAST-MODIFIED:20260115T213419Z
UID:43885-1774688400-1774692000@kirstenhines.com
SUMMARY:Photographic Adventures: Optimizing Your Wildlife Photography Tours
DESCRIPTION:Interested in photographing polar bears in the Arctic? Perhaps gorillas in African forests? Maybe penguins in Antarctica? Sometimes tours are the way to get there. Join globe-trotting wildlife photographer Kirsten Hines for insights on choosing and preparing for photographic tours to optimize chances of capturing good images of target subjects.
URL:https://kirstenhines.com/event/photographic-adventures/
LOCATION:Manatee Technical College\, 6305 State Road 70 East\, Bradenton\, 34203\, United States
CATEGORIES:Talk
ATTACH;FMTTYPE=image/jpeg:https://kirstenhines.com/wp-content/uploads/2026/01/KHines_polarbear.jpg
END:VEVENT
BEGIN:VEVENT
DTSTART;TZID=America/New_York:20260329T090000
DTEND;TZID=America/New_York:20260329T100000
DTSTAMP:20260423T191004
CREATED:20260115T214033Z
LAST-MODIFIED:20260115T214033Z
UID:43891-1774774800-1774778400@kirstenhines.com
SUMMARY:Florida's Top Wildlife Photography Destinations
DESCRIPTION:From northern temperate salamanders to southern tropical crocodiles and loads of endemic species in between\, Florida offers a plethora of wildlife. Learn about the state’s top wildlife photography destinations as Kirsten Hines shares insights from her years crisscrossing the state photographing for her books\, Wild Florida and Birds of Florida.
URL:https://kirstenhines.com/event/floridas-top-wildlife-photography-destinations/
LOCATION:Manatee Technical College\, 6305 State Road 70 East\, Bradenton\, 34203\, United States
CATEGORIES:Talk
ATTACH;FMTTYPE=image/jpeg:https://kirstenhines.com/wp-content/uploads/2026/01/KHines_FLWildlife-2.jpg
END:VEVENT
BEGIN:VEVENT
DTSTART;TZID=America/New_York:20260329T143000
DTEND;TZID=America/New_York:20260329T153000
DTSTAMP:20260423T191004
CREATED:20260115T214516Z
LAST-MODIFIED:20260115T214516Z
UID:43895-1774794600-1774798200@kirstenhines.com
SUMMARY:Photographic Opportunities in the Big Cypress Swamp
DESCRIPTION:From statuesque cypress trees silhouetted in golden light to elusive Florida panthers and Everglades mink\, the Big Cypress Swamp is a photographic treasure trove. Join former Big Cypress Artist-in-Residence and author of the new Big Cypress National Preserve book Kirsten Hines for highlights and destination details.
URL:https://kirstenhines.com/event/bicy-photo-opps/
LOCATION:Manatee Technical College\, 6305 State Road 70 East\, Bradenton\, 34203\, United States
CATEGORIES:Talk
ATTACH;FMTTYPE=image/jpeg:https://kirstenhines.com/wp-content/uploads/2026/01/KHines_foxsquirrel.jpg
END:VEVENT
END:VCALENDAR