BEGIN:VCALENDAR
VERSION:2.0
PRODID:-//Writing &amp; Photography by Kirsten Hines - ECPv6.15.20//NONSGML v1.0//EN
CALSCALE:GREGORIAN
METHOD:PUBLISH
X-WR-CALNAME:Writing &amp; Photography by Kirsten Hines
X-ORIGINAL-URL:https://kirstenhines.com
X-WR-CALDESC:Events for Writing &amp; Photography by Kirsten Hines
REFRESH-INTERVAL;VALUE=DURATION:PT1H
X-Robots-Tag:noindex
X-PUBLISHED-TTL:PT1H
BEGIN:VTIMEZONE
TZID:America/New_York
BEGIN:DAYLIGHT
TZOFFSETFROM:-0500
TZOFFSETTO:-0400
TZNAME:EDT
DTSTART:20250309T070000
END:DAYLIGHT
BEGIN:STANDARD
TZOFFSETFROM:-0400
TZOFFSETTO:-0500
TZNAME:EST
DTSTART:20251102T060000
END:STANDARD
BEGIN:DAYLIGHT
TZOFFSETFROM:-0500
TZOFFSETTO:-0400
TZNAME:EDT
DTSTART:20260308T070000
END:DAYLIGHT
BEGIN:STANDARD
TZOFFSETFROM:-0400
TZOFFSETTO:-0500
TZNAME:EST
DTSTART:20261101T060000
END:STANDARD
BEGIN:DAYLIGHT
TZOFFSETFROM:-0500
TZOFFSETTO:-0400
TZNAME:EDT
DTSTART:20270314T070000
END:DAYLIGHT
BEGIN:STANDARD
TZOFFSETFROM:-0400
TZOFFSETTO:-0500
TZNAME:EST
DTSTART:20271107T060000
END:STANDARD
END:VTIMEZONE
BEGIN:VEVENT
DTSTART;TZID=America/New_York:20260404T123000
DTEND;TZID=America/New_York:20260404T140000
DTSTAMP:20260423T160632
CREATED:20260330T204733Z
LAST-MODIFIED:20260330T204733Z
UID:43931-1775305800-1775311200@kirstenhines.com
SUMMARY:Presentation on Photographing Florida's Birds
DESCRIPTION:How do you select 300 + bird species for an ID guide – and photographs them all including rare and elusive ones\, in just two years? Despite warning that it couldn’t be done\, Kirsten illustrated Birds of Florida with over 450 of her own photos\, covering 310 species in their commonly observed Florida plumages. Join her to explore Florida’s remarkable bird diversity\, top birding hotspots and key insights in to bird photography.
URL:https://kirstenhines.com/event/presentation-on-photographing-floridas-birds/
LOCATION:West Boynton Branch Library\, 9451 Jog Road\, Boynton Beach\, FL\, 33437\, United States
CATEGORIES:Talk
ATTACH;FMTTYPE=image/jpeg:https://kirstenhines.com/wp-content/uploads/2026/03/KHines_Loxahatchee-4.jpg
ORGANIZER;CN="Friends of the Arthur R. Marshall Loxahatchee National Wildlife Refuge":MAILTO:info@loxahatcheefriends.com
END:VEVENT
END:VCALENDAR