BEGIN:VCALENDAR
VERSION:2.0
PRODID:-//Writing &amp; Photography by Kirsten Hines - ECPv6.15.20//NONSGML v1.0//EN
CALSCALE:GREGORIAN
METHOD:PUBLISH
X-ORIGINAL-URL:https://kirstenhines.com
X-WR-CALDESC:Events for Writing &amp; Photography by Kirsten Hines
REFRESH-INTERVAL;VALUE=DURATION:PT1H
X-Robots-Tag:noindex
X-PUBLISHED-TTL:PT1H
BEGIN:VTIMEZONE
TZID:America/New_York
BEGIN:DAYLIGHT
TZOFFSETFROM:-0500
TZOFFSETTO:-0400
TZNAME:EDT
DTSTART:20250309T070000
END:DAYLIGHT
BEGIN:STANDARD
TZOFFSETFROM:-0400
TZOFFSETTO:-0500
TZNAME:EST
DTSTART:20251102T060000
END:STANDARD
BEGIN:DAYLIGHT
TZOFFSETFROM:-0500
TZOFFSETTO:-0400
TZNAME:EDT
DTSTART:20260308T070000
END:DAYLIGHT
BEGIN:STANDARD
TZOFFSETFROM:-0400
TZOFFSETTO:-0500
TZNAME:EST
DTSTART:20261101T060000
END:STANDARD
BEGIN:DAYLIGHT
TZOFFSETFROM:-0500
TZOFFSETTO:-0400
TZNAME:EDT
DTSTART:20270314T070000
END:DAYLIGHT
BEGIN:STANDARD
TZOFFSETFROM:-0400
TZOFFSETTO:-0500
TZNAME:EST
DTSTART:20271107T060000
END:STANDARD
END:VTIMEZONE
BEGIN:VEVENT
DTSTART;TZID=America/New_York:20260404T063000
DTEND;TZID=America/New_York:20260404T113000
DTSTAMP:20260423T160630
CREATED:20260330T203357Z
LAST-MODIFIED:20260330T213252Z
UID:43926-1775284200-1775302200@kirstenhines.com
SUMMARY:Loxahatchee Wildlife Photography Workshop
DESCRIPTION:Join Kirsten Hines for a hands-on photography workshop focused on the design elements\, visual impact\, and story-telling capacity of your photography. This workshop includes a field-based session focused on birds and other wildlife at the Arthur R. Marshall Loxahatchee National Wildlife Refuge followed by a classroom component covering compositional techniques and the basics of post-processing using Adobe’s Lightroom software. 
URL:https://kirstenhines.com/event/loxahatchee-wildlife-photography-workshop/
LOCATION:Arthur R. Marshall Loxahatchee National Wildlife Refuge\, 10216 Lee Road\, Boynton Beach\, FL\, 33473\, United States
CATEGORIES:Photography Workshop
ATTACH;FMTTYPE=image/jpeg:https://kirstenhines.com/wp-content/uploads/2026/03/KHines_Loxahatchee-2.jpg
END:VEVENT
END:VCALENDAR